BEGIN:VCALENDAR
VERSION:2.0
PRODID:-//WP EVENT Manager Ical//NONSGML Events //EN
CALSCALE:GREGORIAN

BEGIN:VEVENT

DTSTART:20261126T200334Z
DTEND:20261126T200334Z
LOCATION:PLAYHOUSE Whitley Bay, Marine Avenue, Whitley Bay
SUMMARY:K-POP Dance Heroes, Playhouse Whitley Bay
DESCRIPTION:<p>Come join the fun, and sing and dance along with friends and family! Featuring GOLDEN, SODA POP, APT, DYNAMITE, BEST DAYS OF OUR LIVES and MANY MANY MORE. Date: Thursday 26th November 2026 Time: 7pm</p>
<p>The post <a href="https://raring2go.co.uk/event/k-pop-dance-heroes/">K-POP Dance Heroes, Playhouse Whitley Bay</a> appeared first on <a href="https://raring2go.co.uk">Raring2go!</a>.</p>

END:VEVENT
END:VCALENDAR
