BEGIN:VCALENDAR
VERSION:2.0
PRODID:-//WP EVENT Manager Ical//NONSGML Events //EN
CALSCALE:GREGORIAN

BEGIN:VEVENT

DTSTART:20241128T155703Z
DTEND:20250105T155703Z
LOCATION:Towngate Theatre, Saint Martins Square, Basildon
SUMMARY:Jack and the Beanstalk Panto
DESCRIPTION:<p>Jack and the Beanstalk Panto Jack and the Beanstalk Panto from November 28th 2024 to January 5th 2025. Fee-fi-fo-fum… don’t miss out on all the fun! Following the ★★★★★ success of Cinderella 2023-4, the Towngate Theatre in Basildon are back this festive season with the magical, mystical, fairytale adventure – Jack and the Beanstalk! Panto favourites, Sophie Ladds and Ian&#8230;</p>
<p>The post <a href="https://raring2go.co.uk/event/jack-and-the-beanstalk-panto/">Jack and the Beanstalk Panto</a> appeared first on <a href="https://raring2go.co.uk">Raring2go!</a>.</p>

END:VEVENT
END:VCALENDAR
