BEGIN:VCALENDAR
VERSION:2.0
PRODID:-//WP EVENT Manager Ical//NONSGML Events //EN
CALSCALE:GREGORIAN

BEGIN:VEVENT

DTSTART:20251108T091447Z
DTEND:20260104T091447Z
LOCATION:Life Science Centre, Newcastle upon Tyne
SUMMARY:Ice Skating, Life Science Centre, Newcastle
DESCRIPTION:<p>Experience the magic of Life’s open-air ice rink this festive season Life’s outdoor ice rink is an established part of the festive calendar in the city.  Situated in Times Square, just outside Life Science Centre, the rink, made of real ice, runs throughout the Christmas season, providing skaters of all ages and abilities with the&#8230;</p>
<p>The post <a href="https://raring2go.co.uk/event/ice-skating-life-science-centre-newcastle/">Ice Skating, Life Science Centre, Newcastle</a> appeared first on <a href="https://raring2go.co.uk">Raring2go!</a>.</p>

END:VEVENT
END:VCALENDAR
