BEGIN:VCALENDAR
VERSION:2.0
PRODID:-//WP EVENT Manager Ical//NONSGML Events //EN
CALSCALE:GREGORIAN

BEGIN:VEVENT

DTSTART:20231209T142201Z
DTEND:20231209T142201Z
LOCATION:Horley
SUMMARY:Horley Christmas Fair & Light switch on
DESCRIPTION:<p>We’re back with another amazing Christmas Fair presented by Horley Association of Traders. Come and visit the Highstreet as Horley is turned into a Winter Wonderland full of Christmas Stalls, fantastic food, Live Music, Mulled Wine, Gifts, and lots, lots more! Plus don’t forget to visit Santa’s Grotto to tell him what you want for&#8230;</p>
<p>The post <a href="https://raring2go.co.uk/event/horley-christmas-fair-light-switch-on/">Horley Christmas Fair &amp; Light switch on</a> appeared first on <a href="https://raring2go.co.uk">Raring2go!</a>.</p>

END:VEVENT
END:VCALENDAR
