BEGIN:VCALENDAR
VERSION:2.0
PRODID:-//WP EVENT Manager Ical//NONSGML Events //EN
CALSCALE:GREGORIAN

BEGIN:VEVENT

DTSTART:20240323T164817Z
DTEND:20240323T164817Z
LOCATION:New Art, Gallery Square, Walsall
SUMMARY:Holi 2024 at the New Art Gallery Walsall
DESCRIPTION:<p>Sat 23 March 12-4pm. Holi 2024: Festival of Colours Community Day. Sun and Moon Spray Painting,Neon Sand Rangoli, Psychedelic Mandala Drawing, Bollywood Dreams Dance Company performances and workshops, Mehndi, South Asian food &#38; Colour and Pattern Gallery Trail. FREE. Drop-in.</p>
<p>The post <a href="https://raring2go.co.uk/event/holi-2024-at-the-new-art-gallery-walsall/">Holi 2024 at the New Art Gallery Walsall</a> appeared first on <a href="https://raring2go.co.uk">Raring2go!</a>.</p>

END:VEVENT
END:VCALENDAR
