BEGIN:VCALENDAR
VERSION:2.0
PRODID:-//WP EVENT Manager Ical//NONSGML Events //EN
CALSCALE:GREGORIAN

BEGIN:VEVENT

DTSTART:20221105T163000Z
DTEND:20221105T223000Z
LOCATION:Himley Hall, Himley Road, Himley, Dudley
SUMMARY:Himley Bonfire and Fireworks for 2022
DESCRIPTION:<p>Himley Bonfire and Fireworks is the region&#8217;s largest family bonfire and fireworks display. This year the theme is &#8216;Around the world in 80 Days&#8217; &#160; Time and Location: 5th November 2022 Himley Hall and Park, Himley Rd, Himley, Dudley DY3 4DF, UK Event timings: Gates open 4:30pm Bonfire lit 7:45pm Fireworks 8:30pm &#160; About the&#8230;</p>
<p>The post <a href="https://raring2go.co.uk/event/himley-bonfire-and-fireworks-2022/">Himley Bonfire and Fireworks for 2022</a> appeared first on <a href="https://raring2go.co.uk">Raring2go!</a>.</p>

END:VEVENT
END:VCALENDAR
