BEGIN:VCALENDAR
VERSION:2.0
PRODID:-//WP EVENT Manager Ical//NONSGML Events //EN
CALSCALE:GREGORIAN

BEGIN:VEVENT

DTSTART:20230518T073115Z
DTEND:20230521T073115Z
LOCATION:Theatre Royal, Grey Street, Newcastle upon Tyne
SUMMARY:Hey Duggee, Theatre Royal Newcastle
DESCRIPTION:<p>Hey Duggee The Live Theatre Show is produced by Cuffe &#38; Taylor and Kenny Wax Family Entertainment under license from BBC Studios. Squirrels get ready! Everyone’s big lovable dog Hey Duggee is touring for the first time EVER and here’s your chance to see him! Hey Duggee The Live Theatre Show is going to be HUGE and will feature Duggee&#8230;</p>
<p>The post <a href="https://raring2go.co.uk/event/hey-duggee/">Hey Duggee, Theatre Royal Newcastle</a> appeared first on <a href="https://raring2go.co.uk">Raring2go!</a>.</p>

END:VEVENT
END:VCALENDAR
