BEGIN:VCALENDAR
VERSION:2.0
PRODID:-//WP EVENT Manager Ical//NONSGML Events //EN
CALSCALE:GREGORIAN

BEGIN:VEVENT

DTSTART:20260617T143855Z
DTEND:20260618T143855Z
LOCATION:People's Theatre, Stephenson Road, Newcastle upon Tyne
SUMMARY:Heaton Shakespeare Festival, People’s Theatre, Heaton,
DESCRIPTION:<p>We are delighted to present, in collaboration with six Heaton schools, the Heaton Shakespeare Festival 2026! This joint undertaking is an exciting community venture which sees the People’s Theatre and local schools work together to present abridged versions of some of Shakespeare’s most popular plays. The project involves 180 young people aged 10-15 years old,&#8230;</p>
<p>The post <a href="https://raring2go.co.uk/event/heaton-shakespeare-festival/">Heaton Shakespeare Festival, People&#8217;s Theatre, Heaton,</a> appeared first on <a href="https://raring2go.co.uk">Raring2go!</a>.</p>

END:VEVENT
END:VCALENDAR
