BEGIN:VCALENDAR
VERSION:2.0
PRODID:-//WP EVENT Manager Ical//NONSGML Events //EN
CALSCALE:GREGORIAN

BEGIN:VEVENT

DTSTART:20251128T163000Z
DTEND:20260102T203000Z
LOCATION:Harrow Lodge Park, Hornchurch
SUMMARY:Havering Christmas Land
DESCRIPTION:<p>Havering Christmas Land Havering Christmas Land is a magical Christmas lights trail which all of the family can enjoy from November 28th Until January 2nd 2025. For 2025….local mental health charity Mind in Havering, Barking &#38; Dagenham presents a unique and magical Christmas Attraction……Havering Christmas Land! With over 30,000 visitors in 2024 we are delighted&#8230;</p>
<p>The post <a href="https://raring2go.co.uk/event/havering-christmas-land/">Havering Christmas Land</a> appeared first on <a href="https://raring2go.co.uk">Raring2go!</a>.</p>

END:VEVENT
END:VCALENDAR
