BEGIN:VCALENDAR
VERSION:2.0
PRODID:-//WP EVENT Manager Ical//NONSGML Events //EN
CALSCALE:GREGORIAN

BEGIN:VEVENT

DTSTART:20231021T143216Z
DTEND:20231031T153216Z
LOCATION:Chessington Garden Centre, Leatherhead Road, Chessington
SUMMARY:Halloween Circus Of Dreams at Chessington Garden Centre
DESCRIPTION:<p>Roll Up, Roll Up &#8211; Halloween Circus Of Dreams at Chessington Garden Centre Trick or Treat yourself to our scarily good Halloween Circus. Back by popular demand after a few years, we welcome the Circus of Dreams, bringing their brand new show for 2023. Join us for a spooktacular week at Chessington Garden Centre as&#8230;</p>
<p>The post <a href="https://raring2go.co.uk/event/halloween-circus-of-dreams-at-chessington-garden-centre-2/">Halloween Circus Of Dreams at Chessington Garden Centre</a> appeared first on <a href="https://raring2go.co.uk">Raring2go!</a>.</p>

END:VEVENT
END:VCALENDAR
