BEGIN:VCALENDAR
VERSION:2.0
PRODID:-//WP EVENT Manager Ical//NONSGML Events //EN
CALSCALE:GREGORIAN

BEGIN:VEVENT

DTSTART:20251025T153000Z
DTEND:20251031T190000Z
LOCATION:The Plotters’ Forest at Raby Castle, Park and Gardens, Darlington
SUMMARY:Halloween After Dark in The Plotters’ Forest
DESCRIPTION:<p>As dusk descends, The Plotters’ Forest stirs with an eerie excitement. Adventurers don their spookiest costumes and venture into the shadows, where spiders spin webs and witches and wolves hide. Amidst the darkness, enchanting creatures appear, inviting brave souls to uncover the forest’s mysteries. Join us at Raby this October for a thrilling journey through&#8230;</p>
<p>The post <a href="https://raring2go.co.uk/event/halloween-after-dark-in-the-plotters-forest/">Halloween After Dark in The Plotters’ Forest</a> appeared first on <a href="https://raring2go.co.uk">Raring2go!</a>.</p>

END:VEVENT
END:VCALENDAR
