BEGIN:VCALENDAR
VERSION:2.0
PRODID:-//WP EVENT Manager Ical//NONSGML Events //EN
CALSCALE:GREGORIAN

BEGIN:VEVENT

DTSTART:20260403T103000Z
DTEND:20260403T170000Z
LOCATION:Lingfield Park Racecourse, Racecourse Road, Lingfield
SUMMARY:Good Friday Racing – All-Weather Vase Day 2026
DESCRIPTION:<p>Looking for things to do on Good Friday in Surrey or a fun-filled family day out over Easter?  Join us at Lingfield Park Racecourse on Good Friday, 3rd April 2026 for the thrilling All-Weather Vase Raceday and start your Easter weekend in style! 🎉🐎 Lingfield Park Racecourse offers the perfect combination of horse racing action&#8230;</p>
<p>The post <a href="https://raring2go.co.uk/event/good-friday-racing-all-weather-vase-day-2026/">Good Friday Racing &#8211; All-Weather Vase Day 2026</a> appeared first on <a href="https://raring2go.co.uk">Raring2go!</a>.</p>

END:VEVENT
END:VCALENDAR
