BEGIN:VCALENDAR
VERSION:2.0
PRODID:-//WP EVENT Manager Ical//NONSGML Events //EN
CALSCALE:GREGORIAN

BEGIN:VEVENT

DTSTART:20251107T180000Z
DTEND:20251107T210000Z
LOCATION:Guildford Rugby Club, Godalming
SUMMARY:Godalming Town Fireworks
DESCRIPTION:<p>The annual town Firework display is back with a bang! With outside bars, food outlets and lots of fun for the little ones it promises to be a great night! Book now</p>
<p>The post <a href="https://raring2go.co.uk/event/godalming-town-fireworks/">Godalming Town Fireworks</a> appeared first on <a href="https://raring2go.co.uk">Raring2go!</a>.</p>

END:VEVENT
END:VCALENDAR
