BEGIN:VCALENDAR
VERSION:2.0
PRODID:-//WP EVENT Manager Ical//NONSGML Events //EN
CALSCALE:GREGORIAN

BEGIN:VEVENT

DTSTART:20260921T080000Z
DTEND:20260923T170000Z
LOCATION:Delta Hotels Heathrow Windsor, Ditton Road, Langley, Slough
SUMMARY:Global Nursing Congress and Healthcare Innovation Summit
DESCRIPTION:<p>The Global Nursing Congress and Healthcare Innovation Summit 2026 (GloNurse Summit 2026) will convene from September 21-23, 2026, in London, UK, with global online access. This Nursing Conferences is world-class event brings together nurses, clinicians, educators, researchers, and healthcare technology innovators to exchange cutting-edge ideas in patient care and health systems advancement. The Nursing Congress&#8230;</p>
<p>The post <a href="https://raring2go.co.uk/event/global-nursing-congress-and-healthcare-innovation-summit/">Global Nursing Congress and Healthcare Innovation Summit</a> appeared first on <a href="https://raring2go.co.uk">Raring2go!</a>.</p>

END:VEVENT
END:VCALENDAR
