BEGIN:VCALENDAR
VERSION:2.0
PRODID:-//WP EVENT Manager Ical//NONSGML Events //EN
CALSCALE:GREGORIAN

BEGIN:VEVENT

DTSTART:20240221T093000Z
DTEND:20240221T130000Z
LOCATION:Hadleigh Rugby Club, Layham Road, Hadleigh, Ipswich
SUMMARY:Girls only rugby camp
DESCRIPTION:<p>Hadleigh Rugby club invite girls in school years 3-6 to our first girls only rugby camp. We welcome those who have never tried rugby before, along with current members for a morning of skill development fun and games. 9.30- 1pm £5 per child payable on the day. Contact sarah.bartholomew@whatfield.suffolk.sch.uk or Ian Littlechild on 07484 798489&#8230;</p>
<p>The post <a href="https://raring2go.co.uk/event/girls-only-rugby-camp/">Girls only rugby camp</a> appeared first on <a href="https://raring2go.co.uk">Raring2go!</a>.</p>

END:VEVENT
END:VCALENDAR
