BEGIN:VCALENDAR
VERSION:2.0
PRODID:-//WP EVENT Manager Ical//NONSGML Events //EN
CALSCALE:GREGORIAN

BEGIN:VEVENT

DTSTART:20260502T083000Z
DTEND:20260531T180000Z
LOCATION:West Midland Safari Park, Spring Grove, Bewdley
SUMMARY:Giraffe Jamboree: May at West Midlands Safari Park
DESCRIPTION:<p>Join us for a brand-new event, celebrating one of the most iconic animals at the Park &#8211; the tower of beautiful giraffes! There will be a brand-new, exciting show, trails, competitions and the chance to win amazing prizes. There will also be the chance to see the newest members of the herd &#8211; calves Namara and&#8230;</p>
<p>The post <a href="https://raring2go.co.uk/event/giraffe-jamboree-may-at-west-midlands-safari-park-2/">Giraffe Jamboree: May at West Midlands Safari Park</a> appeared first on <a href="https://raring2go.co.uk">Raring2go!</a>.</p>

END:VEVENT
END:VCALENDAR
