BEGIN:VCALENDAR
VERSION:2.0
PRODID:-//WP EVENT Manager Ical//NONSGML Events //EN
CALSCALE:GREGORIAN

BEGIN:VEVENT

DTSTART:20260806T132158Z
DTEND:20260807T132158Z
LOCATION:Gosforth Civic Theatre, Regent Farm Road, Newcastle upon Tyne
SUMMARY: GCT Gaming Summer Slam, Gosforth Civic Theatre
DESCRIPTION:<p>Our ever-popular Gaming Social (every Tuesday night during term time &#8211; check it out!) is taking a break from its summer holidays for two packed days of console gaming, exhilarating games and loads of fun. ​We’ll be unpacking everything from our NES to PS5, VR to Switch and getting Smash Bros on the big screen&#8230;</p>
<p>The post <a href="https://raring2go.co.uk/event/gct-gaming-summer-slam-gosforth-civic-theatre/"> GCT Gaming Summer Slam, Gosforth Civic Theatre</a> appeared first on <a href="https://raring2go.co.uk">Raring2go!</a>.</p>

END:VEVENT
END:VCALENDAR
