BEGIN:VCALENDAR
VERSION:2.0
PRODID:-//WP EVENT Manager Ical//NONSGML Events //EN
CALSCALE:GREGORIAN

BEGIN:VEVENT

DTSTART:20250711T093000Z
DTEND:20250711T103000Z
LOCATION:Forge Mill Needle Museum, Needle Mill Lane, Redditch
SUMMARY:Forge Mill Needle Museum-TEDDY BEARS’ PICNIC: MOVIE MAGIC
DESCRIPTION:<p>Fri 11th July  10.30 to 11.30am If you go down to the mill today, be sure of a big surprise! Our popular teddy bears’ picnic event is back and this time it’s movie themed! Bring your teddy dressed for the film awards or as a screen star. Enjoy a craft, themed trail, songs and games&#8230;</p>
<p>The post <a href="https://raring2go.co.uk/event/forge-mill-needle-museum-teddy-bears-picnic-movie-magic/">Forge Mill Needle Museum-TEDDY BEARS’ PICNIC: MOVIE MAGIC</a> appeared first on <a href="https://raring2go.co.uk">Raring2go!</a>.</p>

END:VEVENT
END:VCALENDAR
