BEGIN:VCALENDAR
VERSION:2.0
PRODID:-//WP EVENT Manager Ical//NONSGML Events //EN
CALSCALE:GREGORIAN

BEGIN:VEVENT

DTSTART:20240721T070000Z
DTEND:20240721T160000Z
LOCATION:Santa Pod Raceway, Airfield Road, Wellingborough
SUMMARY:Ford Show
DESCRIPTION:<p>The Ford Show is more than just your average car show, with Ford only RWYB, Show &#38; Shine Competition, Handling Track, Drag Racing Demos, Stunt Shows, Jet Cars and everything else you could possibly imagine to make a great day out for the family and every Ford enthusiast. From the earliest Anglias, Escorts and Cortinas,&#8230;</p>
<p>The post <a href="https://raring2go.co.uk/event/ford-show/">Ford Show</a> appeared first on <a href="https://raring2go.co.uk">Raring2go!</a>.</p>

END:VEVENT
END:VCALENDAR
