BEGIN:VCALENDAR
VERSION:2.0
PRODID:-//WP EVENT Manager Ical//NONSGML Events //EN
CALSCALE:GREGORIAN

BEGIN:VEVENT

DTSTART:20260718T124932Z
DTEND:20260718T124932Z
LOCATION:Live Theatre, Broad Chare, Newcastle upon Tyne
SUMMARY:Footy Fairy Tales, Live Theatre, Newcastle
DESCRIPTION:<p>Live Tales Presents Footy Fairy Tales What happens when football and your favourite fairy tales collide? Watch a talented striker &#8216;Cindy-Ella&#8217; chase the ball and find her spark, help Little Red Riding Hoodie stick to the right path and defeat a terrible troll who says &#8216;No Ball Games Allowed!&#8217; With live music and super storytelling,&#8230;</p>
<p>The post <a href="https://raring2go.co.uk/event/footy-fairy-tales-live-theatre/">Footy Fairy Tales, Live Theatre, Newcastle</a> appeared first on <a href="https://raring2go.co.uk">Raring2go!</a>.</p>

END:VEVENT
END:VCALENDAR
