BEGIN:VCALENDAR
VERSION:2.0
PRODID:-//WP EVENT Manager Ical//NONSGML Events //EN
CALSCALE:GREGORIAN

BEGIN:VEVENT

DTSTART:20250711T114007Z
DTEND:20250713T114007Z
LOCATION:Tatton Park, Knutsford
SUMMARY:Foodies Festival
DESCRIPTION:<p>Friday 11 &#8211; Sunday 13 July 2025 The UK’s biggest celebration of food &#38; drink. Join us at Tatton Park Foodies Festival 2025 for our biggest celebration yet of top chefs, tasty food, delicious drinks and live music.. Tatton Park &#8211; Foodies Festival https://foodiesfestival.com/events/cheshire-2/</p>
<p>The post <a href="https://raring2go.co.uk/event/foodies-festival-2/">Foodies Festival</a> appeared first on <a href="https://raring2go.co.uk">Raring2go!</a>.</p>

END:VEVENT
END:VCALENDAR
