BEGIN:VCALENDAR
VERSION:2.0
PRODID:-//WP EVENT Manager Ical//NONSGML Events //EN
CALSCALE:GREGORIAN

BEGIN:VEVENT

DTSTART:20261031T090000Z
DTEND:20261031T170000Z
LOCATION:Santa Pod Raceway, Airfield Road, Wellingborough
SUMMARY:Flame & Thunder
DESCRIPTION:<p>We’re Shifting Things Up A Gear It starts with drag racing. Then monster trucks appear. Then stunts. Then jet cars. Then, just when you think it’s over, we have a full-blown fireworks display to finish the day off.</p>
<p>The post <a href="https://raring2go.co.uk/event/flame-thunder-4/">Flame &amp; Thunder</a> appeared first on <a href="https://raring2go.co.uk">Raring2go!</a>.</p>

END:VEVENT
END:VCALENDAR
