BEGIN:VCALENDAR
VERSION:2.0
PRODID:-//WP EVENT Manager Ical//NONSGML Events //EN
CALSCALE:GREGORIAN

BEGIN:VEVENT

DTSTART:20231117T173000Z
DTEND:20231117T200000Z
LOCATION:St.Oscar Romero Catholic School, Goring Street, Goring-by-Sea, Worthing
SUMMARY:Fireworks and Laser Display
DESCRIPTION:<p>Our amazing Fireworks and Laser Display is back again this year, along with lasers and fire display performances! So save the date and don&#8217;t miss out on a great family night. A fabulous event to bring the whole community together. Raising money for the school and having fun at the same time. We will be&#8230;</p>
<p>The post <a href="https://raring2go.co.uk/event/fireworks-and-laser-display/">Fireworks and Laser Display</a> appeared first on <a href="https://raring2go.co.uk">Raring2go!</a>.</p>

END:VEVENT
END:VCALENDAR
