BEGIN:VCALENDAR
VERSION:2.0
PRODID:-//WP EVENT Manager Ical//NONSGML Events //EN
CALSCALE:GREGORIAN

BEGIN:VEVENT

DTSTART:20240721T110000Z
DTEND:20240721T143000Z
LOCATION:Darlington Hippodrome
SUMMARY:Fireman Sam Live
DESCRIPTION:<p>Norman wants to go on an adventure to impress his friends, so when two famous animal explorers arrive in Pontypandy, he decides to follow them into the mountains. But when Norman discovers a rare red squirrel, one of the explorers decides to take the glory for themselves, leaving Norman stranded in a cave. Now it&#8217;s&#8230;</p>
<p>The post <a href="https://raring2go.co.uk/event/fireman-sam-live/">Fireman Sam Live</a> appeared first on <a href="https://raring2go.co.uk">Raring2go!</a>.</p>

END:VEVENT
END:VCALENDAR
