BEGIN:VCALENDAR
VERSION:2.0
PRODID:-//WP EVENT Manager Ical//NONSGML Events //EN
CALSCALE:GREGORIAN

BEGIN:VEVENT

DTSTART:20231212T142540Z
DTEND:20231212T142540Z
LOCATION:The Altrincham Garrick Playhouse, Barrington Road, Altrincham
SUMMARY:Christmas Film screenings at Altrincham Garrick Playhouse
DESCRIPTION:<p>CHRISTMAS FILM SCREENING: How the Grinch stole Christmas (2000) Tuesday 12 December 2023 Get Chrismassy at the Garrick this December and watch a family favourite, ‘How the Grinch stole Christmas’ on the ‘Big Screen’ in our Main Auditorium. In this live-action adaptation of the beloved children’s tale by Dr. Seuss, the reclusive green Grinch (Jim&#8230;</p>
<p>The post <a href="https://raring2go.co.uk/event/festive-christmas-classics/">Christmas Film screenings at Altrincham Garrick Playhouse</a> appeared first on <a href="https://raring2go.co.uk">Raring2go!</a>.</p>

END:VEVENT
END:VCALENDAR
