BEGIN:VCALENDAR
VERSION:2.0
PRODID:-//WP EVENT Manager Ical//NONSGML Events //EN
CALSCALE:GREGORIAN

BEGIN:VEVENT

DTSTART:20240210T095527Z
DTEND:20240218T095527Z
LOCATION:National Coal Mining Museum for England, New Road, Overton, Wakefield
SUMMARY:February Half Term @ Pit
DESCRIPTION:<p>Explore the power of mighty machines this February Half Term with hands-on activities, explosive experiments and so much more. The Rock ‘n’ Coal Show 11:30am, 12:30pm, 1:30pm, 2:30pm &#38; 3pm Daily, Free Discover how coal was formed and how we know where to find it! Meet famous people from history such as the Father of&#8230;</p>
<p>The post <a href="https://raring2go.co.uk/event/february-half-term-pit/">February Half Term @ Pit</a> appeared first on <a href="https://raring2go.co.uk">Raring2go!</a>.</p>

END:VEVENT
END:VCALENDAR
