BEGIN:VCALENDAR
VERSION:2.0
PRODID:-//WP EVENT Manager Ical//NONSGML Events //EN
CALSCALE:GREGORIAN

BEGIN:VEVENT

DTSTART:20230222T105417Z
DTEND:20230225T105417Z
LOCATION:The Reel Store, Upper Well Street, Coventry
SUMMARY:February Half Term at The Reel Store
DESCRIPTION:<p>This February half term discover Frida Kahlo inspired activities at The Reel Store. To accompany the digital exhibition Life and Work of Frida Kahlo, five days of events featuring sculpture, pattern making, gear design and pot painting have been designed for all ages. Please note: children must be supervised at all times. Exhibition tickets must&#8230;</p>
<p>The post <a href="https://raring2go.co.uk/event/february-half-term-at-the-reel-store/">February Half Term at The Reel Store</a> appeared first on <a href="https://raring2go.co.uk">Raring2go!</a>.</p>

END:VEVENT
END:VCALENDAR
