BEGIN:VCALENDAR
VERSION:2.0
PRODID:-//WP EVENT Manager Ical//NONSGML Events //EN
CALSCALE:GREGORIAN

BEGIN:VEVENT

DTSTART:20260516T083000Z
DTEND:20260613T123000Z
LOCATION:The Wordsley School, Brierley Hill Road, Stourbridge
SUMMARY:Family Learning Workshops
DESCRIPTION:<p>🐝 Paint a rose and a bumblebee Sat 16th May, 12-1.30pm £7.50 per adult/child pair In this fun and creative session, your tutor will guide you step by step as you create your own beautiful painting of a bumble bee and a rose. Using helpful stencils to get started, you will learn a range of painting&#8230;</p>
<p>The post <a href="https://raring2go.co.uk/event/family-learning-workshops/">Family Learning Workshops</a> appeared first on <a href="https://raring2go.co.uk">Raring2go!</a>.</p>

END:VEVENT
END:VCALENDAR
