BEGIN:VCALENDAR
VERSION:2.0
PRODID:-//WP EVENT Manager Ical//NONSGML Events //EN
CALSCALE:GREGORIAN

BEGIN:VEVENT

DTSTART:20240518T100000Z
DTEND:20240518T130000Z
LOCATION:Brooklands Pleasure Park, Brighton Road, Worthing, Lancing
SUMMARY:Family Funday and Sponsored Bike Ride
DESCRIPTION:<p>Family Funday and Sponsored Bike Ride hosted by the Mayor of Worthing A community family funday &#38; sponsored cycle ride raising funds for CYCALL (inclusive Cycling, Worthing, Broadwater Support Group &#38; Community Hub and Parkinsons UK (Washington &#38; Worthing District) For more family events this spring click here</p>
<p>The post <a href="https://raring2go.co.uk/event/family-funday-and-sponsored-bike-ride/">Family Funday and Sponsored Bike Ride</a> appeared first on <a href="https://raring2go.co.uk">Raring2go!</a>.</p>

END:VEVENT
END:VCALENDAR
