BEGIN:VCALENDAR
VERSION:2.0
PRODID:-//WP EVENT Manager Ical//NONSGML Events //EN
CALSCALE:GREGORIAN

BEGIN:VEVENT

DTSTART:20260526T090000Z
DTEND:20260526T141500Z
LOCATION:Wyre Forest Forestry England
SUMMARY:Family Bushcraft Day at the Wyre Forest
DESCRIPTION:<p>Join us at Wyre Forest Visitors Centre for a 1-hour Family Bushcraft Day session! In collaboration with The World Outside education provider, we will be hosting a number of activities, including bug hunting, shelter building, and cooking a snack over an open fire! This relaxed, hands-on session is run within the ethos of Forest School&#8230;</p>
<p>The post <a href="https://raring2go.co.uk/event/family-bushcraft-day-at-the-wyre-forest/">Family Bushcraft Day at the Wyre Forest</a> appeared first on <a href="https://raring2go.co.uk">Raring2go!</a>.</p>

END:VEVENT
END:VCALENDAR
