BEGIN:VCALENDAR
VERSION:2.0
PRODID:-//WP EVENT Manager Ical//NONSGML Events //EN
CALSCALE:GREGORIAN

BEGIN:VEVENT

DTSTART:20240615T100000Z
DTEND:20240615T110000Z
LOCATION:The Courtyard, Edgar Street, Hereford
SUMMARY:Fafunia Sunny Stories at The Courtyard
DESCRIPTION:<p>Fafunia Sunny Stories at The Courtyard Duration: 45 minutes The sun has got his hat on and you will too! Come explore and play with fairies and frogs in a magical land of rainbows! Sunny Stories is an interactive puppetry and storytelling experience, based in the fairy kingdom of ‘Fafunia!’ Inspired by Icelandic Folk-lore and fairy&#8230;</p>
<p>The post <a href="https://raring2go.co.uk/event/fafunia-sunny-stories-at-the-courtyard/">Fafunia Sunny Stories at The Courtyard</a> appeared first on <a href="https://raring2go.co.uk">Raring2go!</a>.</p>

END:VEVENT
END:VCALENDAR
