BEGIN:VCALENDAR
VERSION:2.0
PRODID:-//WP EVENT Manager Ical//NONSGML Events //EN
CALSCALE:GREGORIAN

BEGIN:VEVENT

DTSTART:20240728T143000Z
DTEND:20260420T005633Z
LOCATION:The College, Durham
SUMMARY:Evensong for the Dedication of Peace Doves
DESCRIPTION:<p>We invite you to join a celebration of Evensong, which will be dedicated to the Peace Doves installation and will feature special prayers for peace in our world. Everyone is welcome.</p>
<p>The post <a href="https://raring2go.co.uk/event/evensong-for-the-dedication-of-peace-doves/">Evensong for the Dedication of Peace Doves</a> appeared first on <a href="https://raring2go.co.uk">Raring2go!</a>.</p>

END:VEVENT
END:VCALENDAR
