BEGIN:VCALENDAR
VERSION:2.0
PRODID:-//WP EVENT Manager Ical//NONSGML Events //EN
CALSCALE:GREGORIAN

BEGIN:VEVENT

DTSTART:20240331T100000Z
DTEND:20240414T150000Z
LOCATION:The Pankhurst Centre, Nelson Street, Manchester
SUMMARY:Easter Holidays at The Pankhurst Centre
DESCRIPTION:<p>Come and explore our museum, learn about the Pankhurst family, and make a suffragette egg card to take home. Try out our Suffrage-Egg Museum Trail and win a prize! Free entry bookable in advance. Open every Thursday and Sunday 11-4pm (last entry 3pm)</p>
<p>The post <a href="https://raring2go.co.uk/event/easter-holidays-at-the-pankhurst-centre/">Easter Holidays at The Pankhurst Centre</a> appeared first on <a href="https://raring2go.co.uk">Raring2go!</a>.</p>

END:VEVENT
END:VCALENDAR
