BEGIN:VCALENDAR
VERSION:2.0
PRODID:-//WP EVENT Manager Ical//NONSGML Events //EN
CALSCALE:GREGORIAN

BEGIN:VEVENT

DTSTART:20240328T160436Z
DTEND:20240407T150436Z
LOCATION:Altrincham
SUMMARY:FREE Pirates and Princesses Town Trail
DESCRIPTION:<p>28th March to 7th April. FREE Pirates and Princesses Town Trail, Altrincham Ahoy, Mateys and Royalty Alike! Join Altrincham&#8217;s Pirates &#38; Princesses FREE Town Trail this Easter Holidays Brace yourselves for an exhilarating Easter adventure as Altrincham hosts swashbuckling Pirates and enchanting Princesses with its Pirates &#38; Princesses Town Trail, taking place from Thursday 28th March- Sunday&#8230;</p>
<p>The post <a href="https://raring2go.co.uk/event/easter-fun-in-altrincham/">FREE Pirates and Princesses Town Trail</a> appeared first on <a href="https://raring2go.co.uk">Raring2go!</a>.</p>

END:VEVENT
END:VCALENDAR
