BEGIN:VCALENDAR
VERSION:2.0
PRODID:-//WP EVENT Manager Ical//NONSGML Events //EN
CALSCALE:GREGORIAN

BEGIN:VEVENT

DTSTART:20250418T090000Z
DTEND:20250421T150000Z
LOCATION:Washington Old Hall, The Avenue, Washington
SUMMARY:Easter Egg Hunt, Washington Old Hall
DESCRIPTION:<p>Make your way along the trail and find activities for the whole family. The trail takes place between Friday 18 April to Monday 21 April, from 11am to 3.30pm, so come along and explore the beautiful garden at Washington Old Hall. Prices are £3.50 per trail which includes an Easter trail sheet, bunny ears and&#8230;</p>
<p>The post <a href="https://raring2go.co.uk/event/easter-egg-hunt-washington-old-hall-2/">Easter Egg Hunt, Washington Old Hall</a> appeared first on <a href="https://raring2go.co.uk">Raring2go!</a>.</p>

END:VEVENT
END:VCALENDAR
