BEGIN:VCALENDAR
VERSION:2.0
PRODID:-//WP EVENT Manager Ical//NONSGML Events //EN
CALSCALE:GREGORIAN

BEGIN:VEVENT

DTSTART:20240323T100000Z
DTEND:20240414T150000Z
LOCATION:National Trust - Standen House and Garden, West Hoathly Road, East Grinstead RH19 4NE
SUMMARY:Easter Egg Hunt at Standen
DESCRIPTION:<p>This Easter, immerse yourself in a wonderful blend of nature and family-friendly fun at Standen Garden. With our special Easter trail, you and your family will not only get to explore the incredible beauty of Standen&#8217;s remarkable garden but also engage in a variety of nature-inspired activities. It&#8217;s a delightful way to spend quality time&#8230;</p>
<p>The post <a href="https://raring2go.co.uk/event/easter-egg-hunt-at-standen/">Easter Egg Hunt at Standen</a> appeared first on <a href="https://raring2go.co.uk">Raring2go!</a>.</p>

END:VEVENT
END:VCALENDAR
