BEGIN:VCALENDAR
VERSION:2.0
PRODID:-//WP EVENT Manager Ical//NONSGML Events //EN
CALSCALE:GREGORIAN

BEGIN:VEVENT

DTSTART:20260328T100000Z
DTEND:20260412T170000Z
LOCATION:West Midland Safari Park, Spring Grove, Bewdley
SUMMARY:Easter at West Midland Safari Park
DESCRIPTION:<p>Hop into the Easter festivities at West Midlands Safari Park&#8217;s Easter Eggstravaganza. Meet Bramble Bunny and Chirpy Chick, marvel at our brand-new butterfly stilt walker, take part in a quest to earn a chocolatey treat and enjoy a range of themed activities for the whole family. You’re sure to have an egg-citing time! &#160; BRAMBLE&#8230;</p>
<p>The post <a href="https://raring2go.co.uk/event/easter-at-west-midland-safari-park/">Easter at West Midland Safari Park</a> appeared first on <a href="https://raring2go.co.uk">Raring2go!</a>.</p>

END:VEVENT
END:VCALENDAR
