BEGIN:VCALENDAR
VERSION:2.0
PRODID:-//WP EVENT Manager Ical//NONSGML Events //EN
CALSCALE:GREGORIAN

BEGIN:VEVENT

DTSTART:20260328T100000Z
DTEND:20260412T150000Z
LOCATION:Dudley Canal and Caverns, Birmingham New Road, Dudley
SUMMARY:Easter at Dudley Canal and Caverns
DESCRIPTION:<p>Back for 2026: Easter at Dudley Canal and Caverns – Time Travel Rescue HELP OUR SKIPPER THIS EASTER IN A RACE THROUGH TIME! Embark on a Thrilling Easter Adventure at Dudley Canal &#38; Caverns! This Easter, join us for an epic race through time and help rescue our Time Travel Explorers in one of the&#8230;</p>
<p>The post <a href="https://raring2go.co.uk/event/easter-at-dudley-canal-and-caverns/">Easter at Dudley Canal and Caverns</a> appeared first on <a href="https://raring2go.co.uk">Raring2go!</a>.</p>

END:VEVENT
END:VCALENDAR
