BEGIN:VCALENDAR
VERSION:2.0
PRODID:-//WP EVENT Manager Ical//NONSGML Events //EN
CALSCALE:GREGORIAN

BEGIN:VEVENT

DTSTART:20260403T114247Z
DTEND:20260406T114247Z
LOCATION:Blenheim Palace, Woodstock
SUMMARY:Easter at Blenheim Palace
DESCRIPTION:<p>Hop along to Blenheim Palace for lots of family fun this Easter! There&#8217;s a whole host of activities, entertainment and outdoor fun for all the family this Easter bank holiday weekend. Take the miniature train down to the Walled Garden and join us for a whole host of egg-citing activities from circus shows and a&#8230;</p>
<p>The post <a href="https://raring2go.co.uk/event/easter-at-blenheim-palace/">Easter at Blenheim Palace</a> appeared first on <a href="https://raring2go.co.uk">Raring2go!</a>.</p>

END:VEVENT
END:VCALENDAR
