BEGIN:VCALENDAR
VERSION:2.0
PRODID:-//WP EVENT Manager Ical//NONSGML Events //EN
CALSCALE:GREGORIAN

BEGIN:VEVENT

DTSTART:20250405T161155Z
DTEND:20250421T161156Z
LOCATION:Battersea Park Children's Zoo, London
SUMMARY:Easter at Battersea Park Children’s Zoo
DESCRIPTION:<p>Battersea Park Children’s Zoo – The Most Loveable Attraction in London Nestled on the scenic south bank of London, Battersea Park Children’s Zoo is the perfect place for little explorers. This Easter, celebrate the joy of Spring at Battersea Park Children’s Zoo.  From egg-citing egg trails, to the cutest baby animals – we’ve got something for&#8230;</p>
<p>The post <a href="https://raring2go.co.uk/event/easter-at-battersea-park-childrens-zoo/">Easter at Battersea Park Children&#8217;s Zoo</a> appeared first on <a href="https://raring2go.co.uk">Raring2go!</a>.</p>

END:VEVENT
END:VCALENDAR
