BEGIN:VCALENDAR
VERSION:2.0
PRODID:-//WP EVENT Manager Ical//NONSGML Events //EN
CALSCALE:GREGORIAN

BEGIN:VEVENT

DTSTART:20240326T100000Z
DTEND:20240326T130000Z
LOCATION:Market Hall Museum, Warwick, Market Place, Warwick
SUMMARY:Easter Arty tots
DESCRIPTION:<p>Discover the animals that are born at this time of year and make some Easter crafts to take home. Suitable for under 5’s. £3 per child. No need to book just drop in.</p>
<p>The post <a href="https://raring2go.co.uk/event/easter-arty-tots/">Easter Arty tots</a> appeared first on <a href="https://raring2go.co.uk">Raring2go!</a>.</p>

END:VEVENT
END:VCALENDAR
