BEGIN:VCALENDAR
VERSION:2.0
PRODID:-//WP EVENT Manager Ical//NONSGML Events //EN
CALSCALE:GREGORIAN

BEGIN:VEVENT

DTSTART:20250415T230000Z
DTEND:20250415T230000Z
LOCATION:Banbury Museum & Gallery, Spiceball Park Road, Banbury
SUMMARY:Easter Animals
DESCRIPTION:<p>Make and decorate cute easter animals ! 2 Sessions 10.30am &#38; 1.30pm Age 3+ £3.00 per child  Booking Essential on our Banbury Museum Website!</p>
<p>The post <a href="https://raring2go.co.uk/event/easter-animals/">Easter Animals</a> appeared first on <a href="https://raring2go.co.uk">Raring2go!</a>.</p>

END:VEVENT
END:VCALENDAR
