BEGIN:VCALENDAR
VERSION:2.0
PRODID:-//WP EVENT Manager Ical//NONSGML Events //EN
CALSCALE:GREGORIAN

BEGIN:VEVENT

DTSTART:20260613T090000Z
DTEND:20260613T150000Z
LOCATION:Newcastle University
SUMMARY:Discover Festival, Newcastle University
DESCRIPTION:<p>Discover Festival is Newcastle University&#8217;s free, one-day festival of interactive family-fun in the heart of the North East. Immerse yourself into a world of wonder and exploration with activities and events to inspire all ages. Meet the experts at the forefront of their fields &#8211; from health detectives to performers, to scientists and engineers. Celebrate as our city-centre&#8230;</p>
<p>The post <a href="https://raring2go.co.uk/event/discover-festival-newcastle-university/">Discover Festival, Newcastle University</a> appeared first on <a href="https://raring2go.co.uk">Raring2go!</a>.</p>

END:VEVENT
END:VCALENDAR
