BEGIN:VCALENDAR
VERSION:2.0
PRODID:-//WP EVENT Manager Ical//NONSGML Events //EN
CALSCALE:GREGORIAN

BEGIN:VEVENT

DTSTART:20221229T110000Z
DTEND:20221229T123000Z
LOCATION:Fairfield Flicks - Bromsgrove's Community Cinema & Live Entertainment Venue, Fairfield, Bromsgrove
SUMMARY:DC League of Super-Pets (PG) in Bromsgrove
DESCRIPTION:<p>Even superheroes have pets, in DC League of Super-Pets (PG) on Thursday 29th December.  Krypto the Super-Dog and Superman are inseparable best friends, sharing the same superpowers and fighting crime in Metropolis side by side. When Superman and the rest of the Justice League are kidnapped, Krypto must convince a rag-tag shelter pack–Ace the hound,&#8230;</p>
<p>The post <a href="https://raring2go.co.uk/event/dc-league-of-super-pets-pg/">DC League of Super-Pets (PG) in Bromsgrove</a> appeared first on <a href="https://raring2go.co.uk">Raring2go!</a>.</p>

END:VEVENT
END:VCALENDAR
