BEGIN:VCALENDAR
VERSION:2.0
PRODID:-//WP EVENT Manager Ical//NONSGML Events //EN
CALSCALE:GREGORIAN

BEGIN:VEVENT

DTSTART:20230218T183325Z
DTEND:20230226T183325Z
LOCATION:Dalby Forest Visitors Centre, Dalby Forest Drive, Low Dalby, Pickering
SUMMARY:Dalby Forest Space Station part of the Dark Skies Festival
DESCRIPTION:<p>Hop in your rocket and join the fun at Dalby Forest this half term! For half term, we’re turning Dalby visitor centre into our very own space station to celebrate the North York Moors Dark Skies festival! Activites include: Our space quiz trail Cosmic cupcakes and galactic hot chocolates in the cafe Craft station to&#8230;</p>
<p>The post <a href="https://raring2go.co.uk/event/dalby-forest-space-station-part-of-the-dark-skies-festival/">Dalby Forest Space Station part of the Dark Skies Festival</a> appeared first on <a href="https://raring2go.co.uk">Raring2go!</a>.</p>

END:VEVENT
END:VCALENDAR
