BEGIN:VCALENDAR
VERSION:2.0
PRODID:-//WP EVENT Manager Ical//NONSGML Events //EN
CALSCALE:GREGORIAN

BEGIN:VEVENT

DTSTART:20260426T064552Z
DTEND:20260426T064552Z
LOCATION:Stephenson Steam Railway, Middle Engine Lane, Wallsend, North Shields
SUMMARY:Coal Train Day, Stephenson Steam Railway
DESCRIPTION:<p>Organised by the North Tyneside Steam Railway Association Our railway runs along a narrow strip of land that at one time contained four independent railway routes all transporting coal south to the Tyne. Visit us to see this history recreated as ‘Ashington No.5’ &#8211; which spent its entire working life hauling coal trains in Northumberland&#8230;</p>
<p>The post <a href="https://raring2go.co.uk/event/coal-train-day-stephenson-steam-railway/">Coal Train Day, Stephenson Steam Railway</a> appeared first on <a href="https://raring2go.co.uk">Raring2go!</a>.</p>

END:VEVENT
END:VCALENDAR
