BEGIN:VCALENDAR
VERSION:2.0
PRODID:-//WP EVENT Manager Ical//NONSGML Events //EN
CALSCALE:GREGORIAN

BEGIN:VEVENT

DTSTART:20240920T122421Z
DTEND:20240929T122421Z
LOCATION:Tatton Park Country Park, Knutsford
SUMMARY:Circus Extreme
DESCRIPTION:<p>20th to 29th September Circus Extreme, Tatton Park From the producers of some of the the World’s Most famous circuses and The Extreme Stunt Show; comes the all new and sensational CIRCUS EXTREME® – This year there should only be one date in your diary to come and see this adreneline-packed performance, filled with stunts&#8230;</p>
<p>The post <a href="https://raring2go.co.uk/event/circus-extreme/">Circus Extreme</a> appeared first on <a href="https://raring2go.co.uk">Raring2go!</a>.</p>

END:VEVENT
END:VCALENDAR
