BEGIN:VCALENDAR
VERSION:2.0
PRODID:-//WP EVENT Manager Ical//NONSGML Events //EN
CALSCALE:GREGORIAN

BEGIN:VEVENT

DTSTART:20241217T000000Z
DTEND:20241231T000000Z
LOCATION:Chichester Festival Theatre, Oaklands Way, Chichester
SUMMARY:Cinderella
DESCRIPTION:<p>You are invited to the prince’s ball this Christmas! Transport yourself into a spellbinding new retelling of this classic folk tale, full of wonder and delight. Meet a wicked stepfamily, a handsome prince in search of a wife and a missing slipper… But wait: there are also three magical dresses, a wish-giving tree, and help&#8230;</p>
<p>The post <a href="https://raring2go.co.uk/event/cinderella-3/">Cinderella</a> appeared first on <a href="https://raring2go.co.uk">Raring2go!</a>.</p>

END:VEVENT
END:VCALENDAR
