BEGIN:VCALENDAR
VERSION:2.0
PRODID:-//WP EVENT Manager Ical//NONSGML Events //EN
CALSCALE:GREGORIAN

BEGIN:VEVENT

DTSTART:20241130T123107Z
DTEND:20241222T123107Z
LOCATION:Mead Open Farm, Stanbridge Road, Billington, Leighton Buzzard
SUMMARY:Christmas @ Mead Open Farm
DESCRIPTION:<p>Christmas at Mead Open Farm is back! Experience a magical festive adventure on selected dates in November and December, as the yuletide cheer of the North Pole takes over the farm. Meet Father Christmas in his grotto, decorate gingerbread men with Mother Christmas, journey through Christmas HQ and help find the magic. Wander through The&#8230;</p>
<p>The post <a href="https://raring2go.co.uk/event/christmas-mead-open-farm-2/">Christmas @ Mead Open Farm</a> appeared first on <a href="https://raring2go.co.uk">Raring2go!</a>.</p>

END:VEVENT
END:VCALENDAR
