BEGIN:VCALENDAR
VERSION:2.0
PRODID:-//WP EVENT Manager Ical//NONSGML Events //EN
CALSCALE:GREGORIAN

BEGIN:VEVENT

DTSTART:20221125T205903Z
DTEND:20230101T205903Z
LOCATION:Wimpole Estate, Old Wimpole Road, Royston
SUMMARY:Christmas Illuminations @ Wimpole Estate
DESCRIPTION:<p>25 Nov – 1 Jan &#160; It’s beginning to look a lot like Christmas when over a million twinkling lights and seasonal sounds fill the air with festive fun at Wimpole Estate. Look forward to some time together with friends and family as you discover sparkling tunnels of light, then walk under giant baubles and beneath glistening&#8230;</p>
<p>The post <a href="https://raring2go.co.uk/event/christmas-illuminations-wimpole-estate/">Christmas Illuminations @ Wimpole Estate</a> appeared first on <a href="https://raring2go.co.uk">Raring2go!</a>.</p>

END:VEVENT
END:VCALENDAR
